BEGIN:VCALENDAR
VERSION:2.0
PRODID:-//DEFCON ONE PUBLISHING - ECPv6.15.20//NONSGML v1.0//EN
CALSCALE:GREGORIAN
METHOD:PUBLISH
X-WR-CALNAME:DEFCON ONE PUBLISHING
X-ORIGINAL-URL:https://www.defconone.com
X-WR-CALDESC:Events for DEFCON ONE PUBLISHING
REFRESH-INTERVAL;VALUE=DURATION:PT1H
X-Robots-Tag:noindex
X-PUBLISHED-TTL:PT1H
BEGIN:VTIMEZONE
TZID:America/Los_Angeles
BEGIN:DAYLIGHT
TZOFFSETFROM:-0800
TZOFFSETTO:-0700
TZNAME:PDT
DTSTART:20150308T100000
END:DAYLIGHT
BEGIN:STANDARD
TZOFFSETFROM:-0700
TZOFFSETTO:-0800
TZNAME:PST
DTSTART:20151101T090000
END:STANDARD
BEGIN:DAYLIGHT
TZOFFSETFROM:-0800
TZOFFSETTO:-0700
TZNAME:PDT
DTSTART:20160313T100000
END:DAYLIGHT
BEGIN:STANDARD
TZOFFSETFROM:-0700
TZOFFSETTO:-0800
TZNAME:PST
DTSTART:20161106T090000
END:STANDARD
BEGIN:DAYLIGHT
TZOFFSETFROM:-0800
TZOFFSETTO:-0700
TZNAME:PDT
DTSTART:20170312T100000
END:DAYLIGHT
BEGIN:STANDARD
TZOFFSETFROM:-0700
TZOFFSETTO:-0800
TZNAME:PST
DTSTART:20171105T090000
END:STANDARD
BEGIN:DAYLIGHT
TZOFFSETFROM:-0800
TZOFFSETTO:-0700
TZNAME:PDT
DTSTART:20180311T100000
END:DAYLIGHT
BEGIN:STANDARD
TZOFFSETFROM:-0700
TZOFFSETTO:-0800
TZNAME:PST
DTSTART:20181104T090000
END:STANDARD
END:VTIMEZONE
BEGIN:VEVENT
DTSTART;TZID=America/Los_Angeles:20171015T090000
DTEND;TZID=America/Los_Angeles:20171015T150000
DTSTAMP:20260423T135859
CREATED:20170522T193343Z
LAST-MODIFIED:20170522T193343Z
UID:425-1508058000-1508079600@www.defconone.com
SUMMARY:Galaxaar: Pop Culture Marketplace - Fall 2017
DESCRIPTION:Come out to Issaquah for this show of handmade goods\, pop culture collectibles\, and more. Register online here.
URL:https://www.defconone.com/event/galaxaar-pop-culture-marketplace-fall-2017/
LOCATION:Issaquah Community Center\, 301 Rainier Blvd S\, Issaquah\, WA\, 98027\, United States
CATEGORIES:Craft Show
ATTACH;FMTTYPE=image/jpeg:https://www.defconone.com/wp-content/uploads/2017/05/https___cdn.evbuc_.com_images_30217406_6535430_1_original1.jpg
END:VEVENT
BEGIN:VEVENT
DTSTART;VALUE=DATE:20170930
DTEND;VALUE=DATE:20171002
DTSTAMP:20260423T135859
CREATED:20170719T195417Z
LAST-MODIFIED:20170719T195417Z
UID:455-1506729600-1506902399@www.defconone.com
SUMMARY:GeekGirlCon 2017
DESCRIPTION:GeekGirlCon is a weekend celebration of the female geek\, and we’ll be selling books there!
URL:https://www.defconone.com/event/geekgirlcon-2017/
LOCATION:The Conference Center\, 800 Pike Street\, Seattle\, WA\, 98101\, United States
CATEGORIES:Convention
ATTACH;FMTTYPE=image/jpeg:https://www.defconone.com/wp-content/uploads/2017/07/banner_geekgirlcon1.jpg
END:VEVENT
BEGIN:VEVENT
DTSTART;TZID=America/Los_Angeles:20170916T100000
DTEND;TZID=America/Los_Angeles:20170917T180000
DTSTAMP:20260423T135859
CREATED:20170522T142106Z
LAST-MODIFIED:20170522T193530Z
UID:415-1505556000-1505671200@www.defconone.com
SUMMARY:RenCon: Renton City Comic Con 2017
DESCRIPTION:We will be attending the 2nd annual Renton City Comic Con to sell our books and handmade goods. Register for this event through the Renton Chamber of Commerce.
URL:https://www.defconone.com/event/rencon-renton-city-comic-con-2017/
LOCATION:Renton Pavilion Event Center and Downtown Core\, 233 Burnett Ave S\, Renton\, WA\, 98057\, United States
CATEGORIES:Convention
ATTACH;FMTTYPE=image/png:https://www.defconone.com/wp-content/uploads/2017/05/18527985_1418936594830349_374675516344204532_n1.png
END:VEVENT
BEGIN:VEVENT
DTSTART;TZID=America/Los_Angeles:20170513T110000
DTEND;TZID=America/Los_Angeles:20170513T180000
DTSTAMP:20260423T135859
CREATED:20170308T022647Z
LAST-MODIFIED:20170329T014958Z
UID:387-1494673200-1494698400@www.defconone.com
SUMMARY:Capital Indie BookCon 2
DESCRIPTION:We will be selling books at this local event promoting indie authors. Details to come.
URL:https://www.defconone.com/event/capital-indie-bookcon-2/
LOCATION:The Olympia Center\, 222 Columbia St NW\, Olympia\, WA\, 98501\, United States
CATEGORIES:Convention
ATTACH;FMTTYPE=image/jpeg:https://www.defconone.com/wp-content/uploads/2017/03/cibc.jpg
END:VEVENT
BEGIN:VEVENT
DTSTART;TZID=America/Los_Angeles:20170506T100000
DTEND;TZID=America/Los_Angeles:20170506T170000
DTSTAMP:20260423T135859
CREATED:20170331T021113Z
LAST-MODIFIED:20170331T021113Z
UID:398-1494064800-1494090000@www.defconone.com
SUMMARY:PuliCon 2017
DESCRIPTION:We will be in artists alley selling books!
URL:https://www.defconone.com/event/pulicon-2017/
LOCATION:Puyallup Public Library\, 324 South Meridian\, Puyallup\, WA\, 98371\, United States
CATEGORIES:Convention
ATTACH;FMTTYPE=image/jpeg:https://www.defconone.com/wp-content/uploads/2017/03/PuliCon2017.jpg
END:VEVENT
BEGIN:VEVENT
DTSTART;VALUE=DATE:20170413
DTEND;VALUE=DATE:20170417
DTSTAMP:20260423T135859
CREATED:20161213T032011Z
LAST-MODIFIED:20170303T023922Z
UID:365-1492041600-1492387199@www.defconone.com
SUMMARY:Norwescon 40
DESCRIPTION:We will be vending both crafts and books at this convention. Jeremy is also a panelist. Schedule below. \n  \nFriday\nChoosing the Right Game for My Group\n11:00am – 12:00pm @ Cascade 7&8\nOgre Whiteside (M)\, Donna Prior\, Jeremy Zimmerman\, Sar Surmick \nSaturday\nAutograph Session 2\n3:00pm – 4:00pm @ Grand 2 \nWhy Do Villains Look Like That?\n6:00pm – 7:00pm @ Cascade 5&6\nJulie McGalliard (M)\, Jeremy Zimmerman\, Jaym Gates\, Erik Scott de Bie \nCreating the Socially Conscious Comic\n8:00pm – 9:00pm @ Cascade 12\nMickey Schulz (M)\, Jeremy Zimmerman\, Ogre Whiteside \nSunday\nReading: Jeremy Zimmerman\n11:00am – 11:30am @ Cascade 2\nJeremy Zimmerman (M) \nTabletop RPG’s: What’s a Story Game?\n3:00pm – 4:00pm @ Cascade 7&8\nOgre Whiteside (M)\, Jeremy Zimmerman\, Scott Hamilton\, Erik Scott de Bie
URL:https://www.defconone.com/event/norwescon-40/
LOCATION:DoubleTree by Hilton Seattle Airport\, 18740 International Blvd\, SeaTac\, WA\, 98188\, United States
CATEGORIES:Convention
ATTACH;FMTTYPE=image/jpeg:https://www.defconone.com/wp-content/uploads/2016/12/nwc40-mainbanner@2x-11.jpg
END:VEVENT
BEGIN:VEVENT
DTSTART;VALUE=DATE:20170203
DTEND;VALUE=DATE:20170206
DTSTAMP:20260423T135859
CREATED:20161123T153656Z
LAST-MODIFIED:20161213T031515Z
UID:349-1486080000-1486339199@www.defconone.com
SUMMARY:Foolscap 2017
DESCRIPTION:We will be vending at this convention\, offering both books and crafts. Because the schedule is primarily built the first day of the convention\, we cannot offer any details about panels or readings we may be involved in.
URL:https://www.defconone.com/event/foolscap-2017/
LOCATION:Hilton Seattle Airport\, 17620 International Blvd\, Seattle\, WA\, 98188-4001\, United States
CATEGORIES:Convention
ATTACH;FMTTYPE=image/png:https://www.defconone.com/wp-content/uploads/2016/11/14632805_1195654483807221_61504723219629248_n1.png
END:VEVENT
BEGIN:VEVENT
DTSTART;VALUE=DATE:20170113
DTEND;VALUE=DATE:20170116
DTSTAMP:20260423T135859
CREATED:20161021T022039Z
LAST-MODIFIED:20170102T203438Z
UID:320-1484265600-1484524799@www.defconone.com
SUMMARY:RustyCon 34
DESCRIPTION:Jeremy Zimmerman will be an attending panelist at this local fan convention.  \nFri Jan 13 2:00 pm – Crowdfunding Ups and Downs – With A. Maire Dinsmore\, John Lovett\, Manny Frishberg\nFri Jan 13 3:00 pm – Magic or Religion? (A writing panel on differences in magic styles.) – With Bruce Taylor\, Elizabeth Guizzetti\, G.R. Theron\nFri Jan 13 5:00 pm – The Role of the Game Master – With Ari Goldstein\, Benjamin Dilley\, Michael Miller\nFri Jan 13 8:00 pm – Reading\nSat Jan 14 4:00 pm – Creating Your Role-Playing Game – With Dameon Willich\, Dustin Gross\nSat Jan 14 5:00 pm – Game Design: World Design – With Benjamin Dilley\, Dustin Gross\, Shannon Dilley\nSat Jan 14 7:00 pm – Questions you always wanted to ask: Writer – With David Boop\, Jeremy Zimmerman\, Michael Ehart\, William (Morrigan) Lehman\nSun Jan 15 2:00 pm – LGTB Fiction: Writing Alt Gender and Lifestyle Characters – With Gene Armstrong\, Kate Ristau\, Mir Plemmons
URL:https://www.defconone.com/event/rustycon-34/
LOCATION:Seattle Airport Marriott\, 3201 South 176th Street\, Seattle\, WA\, 98188\, United States
CATEGORIES:Author Event,Convention
ATTACH;FMTTYPE=image/png:https://www.defconone.com/wp-content/uploads/2016/10/AnnouncmentSlide21.png
END:VEVENT
BEGIN:VEVENT
DTSTART;TZID=America/Los_Angeles:20161218T170000
DTEND;TZID=America/Los_Angeles:20161218T200000
DTSTAMP:20260423T135859
CREATED:20161116T040644Z
LAST-MODIFIED:20161116T041105Z
UID:333-1482080400-1482091200@www.defconone.com
SUMMARY:Mob City Misfits: Smashing Through the Snow 2016
DESCRIPTION:We will be on hand to sell crocheted goods and copies of Kensei!
URL:https://www.defconone.com/event/mob-city-misfits-smashing-through-the-snow-2016/
LOCATION:Skate Deck Everett\, 9700 19th Ave SE\, Everett\, WA\, 98208\, United States
ATTACH;FMTTYPE=image/jpeg:https://www.defconone.com/wp-content/uploads/2016/11/14906856_1028881813889562_4821552039092508846_n1.jpg
END:VEVENT
BEGIN:VEVENT
DTSTART;TZID=America/Los_Angeles:20161022T100000
DTEND;TZID=America/Los_Angeles:20161022T180000
DTSTAMP:20260423T135859
CREATED:20161018T042117Z
LAST-MODIFIED:20161021T021225Z
UID:295-1477130400-1477159200@www.defconone.com
SUMMARY:Fall Fantasy Craft Fair
DESCRIPTION:DefCon One Publishing and Scary White Girl Designs will be selling our wares at this event on the Olympic Peninsula.
URL:https://www.defconone.com/event/fall-fantasy-craft-fair/
LOCATION:Baymont Inn & Suites Bremerton\, 5640 Kitsap Way\, Bremerton\, WA\, 98312\, United States
CATEGORIES:Craft Show
END:VEVENT
END:VCALENDAR