BEGIN:VCALENDAR
VERSION:2.0
PRODID:-//DEFCON ONE PUBLISHING - ECPv6.15.20//NONSGML v1.0//EN
CALSCALE:GREGORIAN
METHOD:PUBLISH
X-WR-CALNAME:DEFCON ONE PUBLISHING
X-ORIGINAL-URL:https://www.defconone.com
X-WR-CALDESC:Events for DEFCON ONE PUBLISHING
REFRESH-INTERVAL;VALUE=DURATION:PT1H
X-Robots-Tag:noindex
X-PUBLISHED-TTL:PT1H
BEGIN:VTIMEZONE
TZID:America/Los_Angeles
BEGIN:DAYLIGHT
TZOFFSETFROM:-0800
TZOFFSETTO:-0700
TZNAME:PDT
DTSTART:20160313T100000
END:DAYLIGHT
BEGIN:STANDARD
TZOFFSETFROM:-0700
TZOFFSETTO:-0800
TZNAME:PST
DTSTART:20161106T090000
END:STANDARD
BEGIN:DAYLIGHT
TZOFFSETFROM:-0800
TZOFFSETTO:-0700
TZNAME:PDT
DTSTART:20170312T100000
END:DAYLIGHT
BEGIN:STANDARD
TZOFFSETFROM:-0700
TZOFFSETTO:-0800
TZNAME:PST
DTSTART:20171105T090000
END:STANDARD
BEGIN:DAYLIGHT
TZOFFSETFROM:-0800
TZOFFSETTO:-0700
TZNAME:PDT
DTSTART:20180311T100000
END:DAYLIGHT
BEGIN:STANDARD
TZOFFSETFROM:-0700
TZOFFSETTO:-0800
TZNAME:PST
DTSTART:20181104T090000
END:STANDARD
BEGIN:DAYLIGHT
TZOFFSETFROM:-0800
TZOFFSETTO:-0700
TZNAME:PDT
DTSTART:20190310T100000
END:DAYLIGHT
BEGIN:STANDARD
TZOFFSETFROM:-0700
TZOFFSETTO:-0800
TZNAME:PST
DTSTART:20191103T090000
END:STANDARD
BEGIN:DAYLIGHT
TZOFFSETFROM:-0800
TZOFFSETTO:-0700
TZNAME:PDT
DTSTART:20200308T100000
END:DAYLIGHT
BEGIN:STANDARD
TZOFFSETFROM:-0700
TZOFFSETTO:-0800
TZNAME:PST
DTSTART:20201101T090000
END:STANDARD
BEGIN:DAYLIGHT
TZOFFSETFROM:-0800
TZOFFSETTO:-0700
TZNAME:PDT
DTSTART:20210314T100000
END:DAYLIGHT
BEGIN:STANDARD
TZOFFSETFROM:-0700
TZOFFSETTO:-0800
TZNAME:PST
DTSTART:20211107T090000
END:STANDARD
BEGIN:DAYLIGHT
TZOFFSETFROM:-0800
TZOFFSETTO:-0700
TZNAME:PDT
DTSTART:20220313T100000
END:DAYLIGHT
BEGIN:STANDARD
TZOFFSETFROM:-0700
TZOFFSETTO:-0800
TZNAME:PST
DTSTART:20221106T090000
END:STANDARD
BEGIN:DAYLIGHT
TZOFFSETFROM:-0800
TZOFFSETTO:-0700
TZNAME:PDT
DTSTART:20230312T100000
END:DAYLIGHT
BEGIN:STANDARD
TZOFFSETFROM:-0700
TZOFFSETTO:-0800
TZNAME:PST
DTSTART:20231105T090000
END:STANDARD
BEGIN:DAYLIGHT
TZOFFSETFROM:-0800
TZOFFSETTO:-0700
TZNAME:PDT
DTSTART:20240310T100000
END:DAYLIGHT
BEGIN:STANDARD
TZOFFSETFROM:-0700
TZOFFSETTO:-0800
TZNAME:PST
DTSTART:20241103T090000
END:STANDARD
BEGIN:DAYLIGHT
TZOFFSETFROM:-0800
TZOFFSETTO:-0700
TZNAME:PDT
DTSTART:20250309T100000
END:DAYLIGHT
BEGIN:STANDARD
TZOFFSETFROM:-0700
TZOFFSETTO:-0800
TZNAME:PST
DTSTART:20251102T090000
END:STANDARD
END:VTIMEZONE
BEGIN:VEVENT
DTSTART;TZID=America/Los_Angeles:20240601T140000
DTEND;TZID=America/Los_Angeles:20240601T190000
DTSTAMP:20260423T072227
CREATED:20240508T003041Z
LAST-MODIFIED:20240601T182840Z
UID:24462-1717250400-1717268400@www.defconone.com
SUMMARY:Kent Nerd Party (Cancelled)
DESCRIPTION:Update: The MeshHouse cancelled all vendor reservations last minute with no explanation. We opted for a refund instead of vending outside. The rest of the event will still happen\, just not in that space.  \nGet ready for the Kent Nerd Party\, where downtown Kent transforms into the ultimate haven for nerds! \nThe Nerd Party is a street-wide event with a cosplay contest\, Lego museum\, indoor and outdoor vendors\, and more. Small businesses on 1st Ave S and Meeker St will host local makers\, artists\, authors\, and exhibits. \nAll nerds are welcome—whether you love anime\, science fiction\, fantasy\, horror\, or another geeky pursuit. \nThe event is all over downtown Kent\, but DefCon One Publishing will have a table at The MesHHouse\, 207 1st Avenue South.
URL:https://www.defconone.com/event/kent-nerd-party/
LOCATION:The MesHHouse\, 207 1st Avenue South\, Kent\, WA\, 98032\, United States
CATEGORIES:Convention
END:VEVENT
BEGIN:VEVENT
DTSTART;VALUE=DATE:20211113
DTEND;VALUE=DATE:20220101
DTSTAMP:20260423T072227
CREATED:20210904T170831Z
LAST-MODIFIED:20211123T023914Z
UID:20372-1636761600-1640995199@www.defconone.com
SUMMARY:GeekGirlCONLINE ’21
DESCRIPTION:DefCon One will be in the Virtual Expo Hall for this year’s online edition of GeekGirlCon.
URL:https://www.defconone.com/event/geekgirlconline-21/
LOCATION:GeekGirlCon Virtual Expo Hall
CATEGORIES:Convention
ATTACH;FMTTYPE=image/jpeg:https://www.defconone.com/wp-content/uploads/2021/09/GGC2017-scaled.jpg
END:VEVENT
BEGIN:VEVENT
DTSTART;VALUE=DATE:20200207
DTEND;VALUE=DATE:20200210
DTSTAMP:20260423T072227
CREATED:20200129T203231Z
LAST-MODIFIED:20200129T203231Z
UID:2650-1581033600-1581292799@www.defconone.com
SUMMARY:Foolscap 2020
DESCRIPTION:Mad Scientist Journal‘s editors will be attending Foolscap in Seattle\, February 7-9. \nCo-editor Dawn Vogel will be on a panel about Publishing in the Digital Age on Friday evening. On Saturday\, she’ll be interviewing Foolscap Guest of Honor Cherie Priest about her writing and other topics! Both Jeremy and Dawn will also be around to attend other panels and events!
URL:https://www.defconone.com/event/foolscap-2020/
LOCATION:Hilton Seattle Airport\, 17620 International Blvd\, Seattle\, WA\, 98188-4001\, United States
CATEGORIES:Convention
ATTACH;FMTTYPE=image/jpeg:https://www.defconone.com/wp-content/uploads/2020/01/Foolscap-2020.jpg
END:VEVENT
BEGIN:VEVENT
DTSTART;VALUE=DATE:20191116
DTEND;VALUE=DATE:20191118
DTSTAMP:20260423T072227
CREATED:20190802T015213Z
LAST-MODIFIED:20190802T015213Z
UID:2193-1573862400-1574035199@www.defconone.com
SUMMARY:GeekGirlCon 2019
DESCRIPTION:We will be vending in the dealer room\, and authors Amanda Cherry and Dawn Vogel will be on panels!
URL:https://www.defconone.com/event/geekgirlcon-2019/
LOCATION:The Conference Center\, 800 Pike Street\, Seattle\, WA\, 98101\, United States
CATEGORIES:Convention
ATTACH;FMTTYPE=image/jpeg:https://www.defconone.com/wp-content/uploads/2017/07/banner_geekgirlcon1.jpg
END:VEVENT
BEGIN:VEVENT
DTSTART;TZID=America/Los_Angeles:20190817T100000
DTEND;TZID=America/Los_Angeles:20190817T170000
DTSTAMP:20260423T072227
CREATED:20190601T181259Z
LAST-MODIFIED:20190601T181341Z
UID:2077-1566036000-1566061200@www.defconone.com
SUMMARY:PuliCon 2019
DESCRIPTION:We will be at the Puyallup Public Library for this year’s PuliCon selling books. Come by and see us!
URL:https://www.defconone.com/event/pulicon-2019/
LOCATION:Puyallup Public Library\, 324 South Meridian\, Puyallup\, WA\, 98371\, United States
CATEGORIES:Convention
ATTACH;FMTTYPE=image/png:https://www.defconone.com/wp-content/uploads/2019/06/Pulicon2019.png
ORGANIZER;CN="Puyallup Public Library":MAILTO:puylib@ci.puyallup.wa.us
END:VEVENT
BEGIN:VEVENT
DTSTART;VALUE=DATE:20190615
DTEND;VALUE=DATE:20190617
DTSTAMP:20260423T072227
CREATED:20190208T052709Z
LAST-MODIFIED:20190208T195749Z
UID:1827-1560556800-1560729599@www.defconone.com
SUMMARY:Washington State Summer Con 2019
DESCRIPTION:Dawn Vogel\, Amanda Cherry\, and Jeremy Zimmerman will be representing DefCon One in the dealer room.
URL:https://www.defconone.com/event/washington-state-summer-con-2019/
LOCATION:Washington State Fair Events Center\, 110 9th Avenue SW\, Puyallup\, WA\, 98371\, United States
CATEGORIES:Convention
ATTACH;FMTTYPE=image/png:https://www.defconone.com/wp-content/uploads/2019/02/Washington-State-Summer-Con.png
END:VEVENT
BEGIN:VEVENT
DTSTART;VALUE=DATE:20190418
DTEND;VALUE=DATE:20190422
DTSTAMP:20260423T072227
CREATED:20190202T033855Z
LAST-MODIFIED:20190202T033855Z
UID:1805-1555545600-1555891199@www.defconone.com
SUMMARY:Norwescon 42
DESCRIPTION:Dawn Vogel and Amanda Cherry will be part of the Broad Universe Rapid Fire Reading at this convention.
URL:https://www.defconone.com/event/norwescon-42/
LOCATION:DoubleTree by Hilton Seattle Airport\, 18740 International Blvd\, SeaTac\, WA\, 98188\, United States
CATEGORIES:Convention
END:VEVENT
BEGIN:VEVENT
DTSTART;VALUE=DATE:20190314
DTEND;VALUE=DATE:20190318
DTSTAMP:20260423T072227
CREATED:20190201T203352Z
LAST-MODIFIED:20190201T203417Z
UID:1798-1552521600-1552867199@www.defconone.com
SUMMARY:Emerald City ComicCon 2019
DESCRIPTION:Author Amanda Cherry will be a panelist at this convention. You can find her full schedule on the convention website. 
URL:https://www.defconone.com/event/emerald-city-comiccon-2019/
LOCATION:Washington State Convention Center\, 705 Pike St\, Seattle\, WA\, 98101\, United States
CATEGORIES:Convention
ATTACH;FMTTYPE=image/jpeg:https://www.defconone.com/wp-content/uploads/2019/02/ECCC-2019.jpg
END:VEVENT
BEGIN:VEVENT
DTSTART;VALUE=DATE:20181027
DTEND;VALUE=DATE:20181029
DTSTAMP:20260423T072227
CREATED:20180714T154817Z
LAST-MODIFIED:20180714T170746Z
UID:1262-1540598400-1540771199@www.defconone.com
SUMMARY:GeekGirlCon 2018
DESCRIPTION:We will be in the dealer room for the 8th Annual GeekGirlCon at the Conference Center in downtown Seattle. Mad Scientist Journal: Autumn 2018\, Battling in All Her Finery\, and the re-release of The Trouble with the Tick-Tock Tabby will be new at the convention. Authors Dawn Vogel\, Jeremy Zimmerman\, and Amanda Cherry will be on hand to talk about and sign books. \nCheck back for a schedule of other author events at the convention.
URL:https://www.defconone.com/event/geekgirlcon-2018/
LOCATION:The Conference Center\, 800 Pike Street\, Seattle\, WA\, 98101\, United States
CATEGORIES:Convention
ATTACH;FMTTYPE=image/jpeg:https://www.defconone.com/wp-content/uploads/2017/07/banner_geekgirlcon1.jpg
END:VEVENT
BEGIN:VEVENT
DTSTART;VALUE=DATE:20180810
DTEND;VALUE=DATE:20180813
DTSTAMP:20260423T072227
CREATED:20180112T031828Z
LAST-MODIFIED:20180804T180048Z
UID:694-1533859200-1534118399@www.defconone.com
SUMMARY:SpoCon 2018
DESCRIPTION:Dawn Vogel and Jeremy Zimmerman will be attending pros for this year’s SpoCon. We’ve listed out the events below\, but for most current info visit the SpoCon website to get Jeremy’s schedule or Dawn’s schedule. \nFriday\, August 10 \n3:00 PM – Panel: The Magical Menagerie (Dawn Vogel)\n4:00 PM – Reading: Dawn Vogel\n7:00 PM – Reading: Jeremy Zimmerman \nSaturday\, August 11 \n11:00 AM – Panel: Flash Fiction: The Genre (Dawn)\n12:00 PM – Panel: Creating Worlds the Players Control (Jeremy Zimmerman)\n1:00 PM – Panel: Memorable NPCs (Jeremy Zimmerman)\n2:00 PM – Panel: Create Stories Live (Dawn Vogel)\n3:00 PM – Panel: What Editors Want (Dawn Vogel)\n4:00 PM – Panel: Cooperative Gaming\, a Conversation (Jeremy Zimmerman)\n5:00 PM – Panel: Short Fiction in SF \nSunday\, August 12 \n10:00 AM – Panel: What to Do Before You Publish (Jeremy Zimmerman)
URL:https://www.defconone.com/event/spocon-2018/
LOCATION:WA
CATEGORIES:Convention
ATTACH;FMTTYPE=image/png:https://www.defconone.com/wp-content/uploads/2018/01/spocon.png
END:VEVENT
BEGIN:VEVENT
DTSTART;VALUE=DATE:20180202
DTEND;VALUE=DATE:20180205
DTSTAMP:20260423T072227
CREATED:20180112T024346Z
LAST-MODIFIED:20180112T024346Z
UID:645-1517529600-1517788799@www.defconone.com
SUMMARY:Foolscap 2018
DESCRIPTION:We will be vending at this event\, both as DefCon One and Scary White Girl Designs.
URL:https://www.defconone.com/event/foolscap-2018/
LOCATION:Hilton Seattle Airport\, 17620 International Blvd\, Seattle\, WA\, 98188-4001\, United States
CATEGORIES:Convention
ATTACH;FMTTYPE=image/png:https://www.defconone.com/wp-content/uploads/2017/12/foolscap.png
END:VEVENT
BEGIN:VEVENT
DTSTART;VALUE=DATE:20180112
DTEND;VALUE=DATE:20180115
DTSTAMP:20260423T072227
CREATED:20171025T191743Z
LAST-MODIFIED:20180111T045809Z
UID:543-1515715200-1515974399@www.defconone.com
SUMMARY:Rustycon 35
DESCRIPTION:Dawn Vogel and Jeremy Zimmerman will be a panelists at this event. \nFri Jan 12 5:00:pm – GMing for Beginners (Dawn) \nFri Jan 12 6:00:pm – The Future of Reading (Jeremy) \nFri Jan 12 7:00:pm – Cowardice in RPGs (Jeremy) \nFri Jan 12 7:00:pm – When The Heroine ISN`T 18\, Blonde\, and a Size 3 (Dawn) \nFri Jan 12 8:00:pm – Women in Gaming (Dawn\, Jeremy) \nSat Jan 13 10:00:am – The Lost Treasures of Historical Fantasy (Dawn) \nSat Jan 13 11:00:am – The Business of Self-Publishing! (Dawn\, Jeremy) \nSat Jan 13 12:00:pm – Creating a Believable World (Jeremy) \nSat Jan 13 5:00:pm – Pantser\, or Plotter\, First\, Third or Other (Jeremy) \nSat Jan 13 6:00:pm – Putting the play back into role-playing (Jeremy) \nSat Jan 13 6:00:pm – What Players want out of a game? (Dawn) \nSat Jan 13 7:00:pm – Inclusive Fandom (Jeremy) \nSat Jan 13 7:00:pm – Mining History (Dawn) \nSun Jan 14 11:00:am – Art of Editing (Dawn\, Jeremy) \nSun Jan 14 12:00:pm – Transitioning from Fan to Pro (Dawn) \nSun Jan 14 2:00:pm – You got a little sorcery in my sci-fi (Jeremy) \n 
URL:https://www.defconone.com/event/rustycon-35/
LOCATION:Seattle Airport Marriott\, 3201 South 176th Street\, Seattle\, WA\, 98188\, United States
CATEGORIES:Convention
ATTACH;FMTTYPE=image/jpeg:https://www.defconone.com/wp-content/uploads/2017/10/rustycon.jpg
END:VEVENT
BEGIN:VEVENT
DTSTART;VALUE=DATE:20170930
DTEND;VALUE=DATE:20171002
DTSTAMP:20260423T072227
CREATED:20170719T195417Z
LAST-MODIFIED:20170719T195417Z
UID:455-1506729600-1506902399@www.defconone.com
SUMMARY:GeekGirlCon 2017
DESCRIPTION:GeekGirlCon is a weekend celebration of the female geek\, and we’ll be selling books there!
URL:https://www.defconone.com/event/geekgirlcon-2017/
LOCATION:The Conference Center\, 800 Pike Street\, Seattle\, WA\, 98101\, United States
CATEGORIES:Convention
ATTACH;FMTTYPE=image/jpeg:https://www.defconone.com/wp-content/uploads/2017/07/banner_geekgirlcon1.jpg
END:VEVENT
BEGIN:VEVENT
DTSTART;TZID=America/Los_Angeles:20170916T100000
DTEND;TZID=America/Los_Angeles:20170917T180000
DTSTAMP:20260423T072227
CREATED:20170522T142106Z
LAST-MODIFIED:20170522T193530Z
UID:415-1505556000-1505671200@www.defconone.com
SUMMARY:RenCon: Renton City Comic Con 2017
DESCRIPTION:We will be attending the 2nd annual Renton City Comic Con to sell our books and handmade goods. Register for this event through the Renton Chamber of Commerce.
URL:https://www.defconone.com/event/rencon-renton-city-comic-con-2017/
LOCATION:Renton Pavilion Event Center and Downtown Core\, 233 Burnett Ave S\, Renton\, WA\, 98057\, United States
CATEGORIES:Convention
ATTACH;FMTTYPE=image/png:https://www.defconone.com/wp-content/uploads/2017/05/18527985_1418936594830349_374675516344204532_n1.png
END:VEVENT
BEGIN:VEVENT
DTSTART;TZID=America/Los_Angeles:20170513T110000
DTEND;TZID=America/Los_Angeles:20170513T180000
DTSTAMP:20260423T072227
CREATED:20170308T022647Z
LAST-MODIFIED:20170329T014958Z
UID:387-1494673200-1494698400@www.defconone.com
SUMMARY:Capital Indie BookCon 2
DESCRIPTION:We will be selling books at this local event promoting indie authors. Details to come.
URL:https://www.defconone.com/event/capital-indie-bookcon-2/
LOCATION:The Olympia Center\, 222 Columbia St NW\, Olympia\, WA\, 98501\, United States
CATEGORIES:Convention
ATTACH;FMTTYPE=image/jpeg:https://www.defconone.com/wp-content/uploads/2017/03/cibc.jpg
END:VEVENT
BEGIN:VEVENT
DTSTART;TZID=America/Los_Angeles:20170506T100000
DTEND;TZID=America/Los_Angeles:20170506T170000
DTSTAMP:20260423T072227
CREATED:20170331T021113Z
LAST-MODIFIED:20170331T021113Z
UID:398-1494064800-1494090000@www.defconone.com
SUMMARY:PuliCon 2017
DESCRIPTION:We will be in artists alley selling books!
URL:https://www.defconone.com/event/pulicon-2017/
LOCATION:Puyallup Public Library\, 324 South Meridian\, Puyallup\, WA\, 98371\, United States
CATEGORIES:Convention
ATTACH;FMTTYPE=image/jpeg:https://www.defconone.com/wp-content/uploads/2017/03/PuliCon2017.jpg
END:VEVENT
BEGIN:VEVENT
DTSTART;VALUE=DATE:20170413
DTEND;VALUE=DATE:20170417
DTSTAMP:20260423T072227
CREATED:20161213T032011Z
LAST-MODIFIED:20170303T023922Z
UID:365-1492041600-1492387199@www.defconone.com
SUMMARY:Norwescon 40
DESCRIPTION:We will be vending both crafts and books at this convention. Jeremy is also a panelist. Schedule below. \n  \nFriday\nChoosing the Right Game for My Group\n11:00am – 12:00pm @ Cascade 7&8\nOgre Whiteside (M)\, Donna Prior\, Jeremy Zimmerman\, Sar Surmick \nSaturday\nAutograph Session 2\n3:00pm – 4:00pm @ Grand 2 \nWhy Do Villains Look Like That?\n6:00pm – 7:00pm @ Cascade 5&6\nJulie McGalliard (M)\, Jeremy Zimmerman\, Jaym Gates\, Erik Scott de Bie \nCreating the Socially Conscious Comic\n8:00pm – 9:00pm @ Cascade 12\nMickey Schulz (M)\, Jeremy Zimmerman\, Ogre Whiteside \nSunday\nReading: Jeremy Zimmerman\n11:00am – 11:30am @ Cascade 2\nJeremy Zimmerman (M) \nTabletop RPG’s: What’s a Story Game?\n3:00pm – 4:00pm @ Cascade 7&8\nOgre Whiteside (M)\, Jeremy Zimmerman\, Scott Hamilton\, Erik Scott de Bie
URL:https://www.defconone.com/event/norwescon-40/
LOCATION:DoubleTree by Hilton Seattle Airport\, 18740 International Blvd\, SeaTac\, WA\, 98188\, United States
CATEGORIES:Convention
ATTACH;FMTTYPE=image/jpeg:https://www.defconone.com/wp-content/uploads/2016/12/nwc40-mainbanner@2x-11.jpg
END:VEVENT
BEGIN:VEVENT
DTSTART;VALUE=DATE:20170203
DTEND;VALUE=DATE:20170206
DTSTAMP:20260423T072227
CREATED:20161123T153656Z
LAST-MODIFIED:20161213T031515Z
UID:349-1486080000-1486339199@www.defconone.com
SUMMARY:Foolscap 2017
DESCRIPTION:We will be vending at this convention\, offering both books and crafts. Because the schedule is primarily built the first day of the convention\, we cannot offer any details about panels or readings we may be involved in.
URL:https://www.defconone.com/event/foolscap-2017/
LOCATION:Hilton Seattle Airport\, 17620 International Blvd\, Seattle\, WA\, 98188-4001\, United States
CATEGORIES:Convention
ATTACH;FMTTYPE=image/png:https://www.defconone.com/wp-content/uploads/2016/11/14632805_1195654483807221_61504723219629248_n1.png
END:VEVENT
BEGIN:VEVENT
DTSTART;VALUE=DATE:20170113
DTEND;VALUE=DATE:20170116
DTSTAMP:20260423T072227
CREATED:20161021T022039Z
LAST-MODIFIED:20170102T203438Z
UID:320-1484265600-1484524799@www.defconone.com
SUMMARY:RustyCon 34
DESCRIPTION:Jeremy Zimmerman will be an attending panelist at this local fan convention.  \nFri Jan 13 2:00 pm – Crowdfunding Ups and Downs – With A. Maire Dinsmore\, John Lovett\, Manny Frishberg\nFri Jan 13 3:00 pm – Magic or Religion? (A writing panel on differences in magic styles.) – With Bruce Taylor\, Elizabeth Guizzetti\, G.R. Theron\nFri Jan 13 5:00 pm – The Role of the Game Master – With Ari Goldstein\, Benjamin Dilley\, Michael Miller\nFri Jan 13 8:00 pm – Reading\nSat Jan 14 4:00 pm – Creating Your Role-Playing Game – With Dameon Willich\, Dustin Gross\nSat Jan 14 5:00 pm – Game Design: World Design – With Benjamin Dilley\, Dustin Gross\, Shannon Dilley\nSat Jan 14 7:00 pm – Questions you always wanted to ask: Writer – With David Boop\, Jeremy Zimmerman\, Michael Ehart\, William (Morrigan) Lehman\nSun Jan 15 2:00 pm – LGTB Fiction: Writing Alt Gender and Lifestyle Characters – With Gene Armstrong\, Kate Ristau\, Mir Plemmons
URL:https://www.defconone.com/event/rustycon-34/
LOCATION:Seattle Airport Marriott\, 3201 South 176th Street\, Seattle\, WA\, 98188\, United States
CATEGORIES:Author Event,Convention
ATTACH;FMTTYPE=image/png:https://www.defconone.com/wp-content/uploads/2016/10/AnnouncmentSlide21.png
END:VEVENT
END:VCALENDAR