BEGIN:VCALENDAR
VERSION:2.0
PRODID:-//DEFCON ONE PUBLISHING - ECPv6.15.20//NONSGML v1.0//EN
CALSCALE:GREGORIAN
METHOD:PUBLISH
X-ORIGINAL-URL:https://www.defconone.com
X-WR-CALDESC:Events for DEFCON ONE PUBLISHING
REFRESH-INTERVAL;VALUE=DURATION:PT1H
X-Robots-Tag:noindex
X-PUBLISHED-TTL:PT1H
BEGIN:VTIMEZONE
TZID:America/Los_Angeles
BEGIN:DAYLIGHT
TZOFFSETFROM:-0800
TZOFFSETTO:-0700
TZNAME:PDT
DTSTART:20170312T100000
END:DAYLIGHT
BEGIN:STANDARD
TZOFFSETFROM:-0700
TZOFFSETTO:-0800
TZNAME:PST
DTSTART:20171105T090000
END:STANDARD
BEGIN:DAYLIGHT
TZOFFSETFROM:-0800
TZOFFSETTO:-0700
TZNAME:PDT
DTSTART:20180311T100000
END:DAYLIGHT
BEGIN:STANDARD
TZOFFSETFROM:-0700
TZOFFSETTO:-0800
TZNAME:PST
DTSTART:20181104T090000
END:STANDARD
BEGIN:DAYLIGHT
TZOFFSETFROM:-0800
TZOFFSETTO:-0700
TZNAME:PDT
DTSTART:20190310T100000
END:DAYLIGHT
BEGIN:STANDARD
TZOFFSETFROM:-0700
TZOFFSETTO:-0800
TZNAME:PST
DTSTART:20191103T090000
END:STANDARD
BEGIN:DAYLIGHT
TZOFFSETFROM:-0800
TZOFFSETTO:-0700
TZNAME:PDT
DTSTART:20200308T100000
END:DAYLIGHT
BEGIN:STANDARD
TZOFFSETFROM:-0700
TZOFFSETTO:-0800
TZNAME:PST
DTSTART:20201101T090000
END:STANDARD
BEGIN:DAYLIGHT
TZOFFSETFROM:-0800
TZOFFSETTO:-0700
TZNAME:PDT
DTSTART:20210314T100000
END:DAYLIGHT
BEGIN:STANDARD
TZOFFSETFROM:-0700
TZOFFSETTO:-0800
TZNAME:PST
DTSTART:20211107T090000
END:STANDARD
BEGIN:DAYLIGHT
TZOFFSETFROM:-0800
TZOFFSETTO:-0700
TZNAME:PDT
DTSTART:20220313T100000
END:DAYLIGHT
BEGIN:STANDARD
TZOFFSETFROM:-0700
TZOFFSETTO:-0800
TZNAME:PST
DTSTART:20221106T090000
END:STANDARD
BEGIN:DAYLIGHT
TZOFFSETFROM:-0800
TZOFFSETTO:-0700
TZNAME:PDT
DTSTART:20230312T100000
END:DAYLIGHT
BEGIN:STANDARD
TZOFFSETFROM:-0700
TZOFFSETTO:-0800
TZNAME:PST
DTSTART:20231105T090000
END:STANDARD
BEGIN:DAYLIGHT
TZOFFSETFROM:-0800
TZOFFSETTO:-0700
TZNAME:PDT
DTSTART:20240310T100000
END:DAYLIGHT
BEGIN:STANDARD
TZOFFSETFROM:-0700
TZOFFSETTO:-0800
TZNAME:PST
DTSTART:20241103T090000
END:STANDARD
BEGIN:DAYLIGHT
TZOFFSETFROM:-0800
TZOFFSETTO:-0700
TZNAME:PDT
DTSTART:20250309T100000
END:DAYLIGHT
BEGIN:STANDARD
TZOFFSETFROM:-0700
TZOFFSETTO:-0800
TZNAME:PST
DTSTART:20251102T090000
END:STANDARD
END:VTIMEZONE
BEGIN:VEVENT
DTSTART;VALUE=DATE:20240917
DTEND;VALUE=DATE:20240918
DTSTAMP:20260423T072516
CREATED:20240809T193755Z
LAST-MODIFIED:20240809T193755Z
UID:24572-1726531200-1726617599@www.defconone.com
SUMMARY:Throne of Heaven
DESCRIPTION:Purchase Here \n\n\nThere is madness spreading on the streets of Cobalt City. \nThankfully\, the city has superheroes to protect it. \nAn international consortium of tech firms is about to unveil a huge leap forward in space technology with an orbital platform and space elevator anchored just off the coast of Cobalt City. But the project isn’t without its detractors\, such as the technologically advanced nation of D’habu\, which sees the project as a global threat\, and the pernicious Sky Pirates’ frequent raids of construction deliveries. \nEnter Kara Sparx and Madjack. The thrill-seeking inventor and rebellious musician/daughter of a failed alien conqueror would be the last people to call themselves heroes. But since Stardust’s ex-wife is part of the Skyhook project and good friends with Kara\, there’s no one better to navigate the deadly line between pirates and politics. \nBut when push comes to shove\, D’habu has one more ace in its sleeve: Edirin Okoloko\, a.k.a. Knockabout\, one of the most powerful members of legendary Cobalt City team The Protectorate. If Knockabout enters the fray\, it could create an international incident that will shake the Throne of Heaven. \nThrone of Heaven is stand-alone novella of high-flying action and political intrigue from Cobalt City creator Nathan Crowder that can also be read as a piece of the puzzle in the four-part epic Mad World Cycle.
URL:https://www.defconone.com/event/throne-of-heaven/
CATEGORIES:Book Release
ATTACH;FMTTYPE=image/jpeg:https://www.defconone.com/wp-content/uploads/2024/07/Throne_Of_Heaven.jpg
END:VEVENT
BEGIN:VEVENT
DTSTART;VALUE=DATE:20240813
DTEND;VALUE=DATE:20240814
DTSTAMP:20260423T072516
CREATED:20240809T193535Z
LAST-MODIFIED:20240809T193825Z
UID:24570-1723507200-1723593599@www.defconone.com
SUMMARY:Book Release: Afoul & Affairs
DESCRIPTION:Purchase Here \nPeople are messy. \nAs far as Ruby Killingsworth is concerned\, personal entanglements are far more burdensome than managing her billion-dollar entertainment empire. Up to this point\, she’s preferred to avoid them whenever possible. \nBut some things can’t always be helped … \nFrom the complexity of a long-distance romance to a rekindled fling with the handsome hero next door\, to somehow finding herself playing hostess to her lover’s super-powered niece\, Ruby has never had so many people in her life at once. \nAnd much to her own surprise\, she doesn’t even hate it. \nFollow Cobalt City’s hottest villain through six short stories as she navigates life\, love\, music\, politics\, the limits of her own power\, and the pitfalls of being publicly hero-adjacent.
URL:https://www.defconone.com/event/book-release-afoul-affairs/
CATEGORIES:Book Release
ATTACH;FMTTYPE=image/jpeg:https://www.defconone.com/wp-content/uploads/2024/07/AA-Cover-ebook-1.jpg
END:VEVENT
BEGIN:VEVENT
DTSTART;VALUE=DATE:20240611
DTEND;VALUE=DATE:20240612
DTSTAMP:20260423T072516
CREATED:20240507T145834Z
LAST-MODIFIED:20240507T145834Z
UID:24459-1718064000-1718150399@www.defconone.com
SUMMARY:Book Release: Public Enemy
DESCRIPTION:Purchase Here \nOur heroes have attracted public attention\, which is a dangerous proposition when you have an image to maintain\, you’re not ready for scrutiny\, and/or you’ve convinced the world you’re already dead. \nAn obsessed Supergroup fan targets Kid Justice and A-Girl in an effort to undermine their public image and get them in trouble with the law. What starts with social media harassment\, review bombing\, and other such online abuse escalates and spirals into real-life violence. How do you fight an enemy you can’t see or punch? \nMeanwhile\, The Raven strikes! Now that she’s out of hiding\, Lady Vengeance has to face her greatest mistake. It will take all of her power\, her training\, and her scarred heart to survive the fight of her life. \nNot to mention the mysterious ninja girl who keeps appearing at the least opportune times… \nDon’t feed the trolls!
URL:https://www.defconone.com/event/book-release-public-enemy/
CATEGORIES:Book Release
ATTACH;FMTTYPE=image/jpeg:https://www.defconone.com/wp-content/uploads/2024/05/jv_wrapcover_02_deliverable-ebook.jpg
END:VEVENT
BEGIN:VEVENT
DTSTART;VALUE=DATE:20240514
DTEND;VALUE=DATE:20240515
DTSTAMP:20260423T072516
CREATED:20240401T005652Z
LAST-MODIFIED:20240401T005652Z
UID:24423-1715644800-1715731199@www.defconone.com
SUMMARY:Book Release: A Tarot of Sorcery and Sages
DESCRIPTION:Purchase Here \nThe tarot provides wisdom to seekers of esoteric knowledge. In this collection of fantasy stories and poetry\, the cards of the major arcana form the structure around which the pieces are arranged\, allowing the words to offer the tarot’s sagacious insight into their worlds of dragons and sorcery\, and perhaps a few thoughts on our own world.
URL:https://www.defconone.com/event/book-release-a-tarot-of-sorcery-and-sages/
CATEGORIES:Book Release
ATTACH;FMTTYPE=image/jpeg:https://www.defconone.com/wp-content/uploads/2024/03/Tarot-cover.jpg
END:VEVENT
BEGIN:VEVENT
DTSTART;VALUE=DATE:20240416
DTEND;VALUE=DATE:20240417
DTSTAMP:20260423T072516
CREATED:20240226T002230Z
LAST-MODIFIED:20240226T002230Z
UID:24390-1713225600-1713311999@www.defconone.com
SUMMARY:Book Release: Wrecker of Engines – Tales of Cobalt City’s Adventurers Club
DESCRIPTION:Purchase Here \nDive into the complete collection of tales from the Cobalt City’s Adventurers Club. From the gaslight mysteries of the nineteenth century\, to mayhem in the twentieth century\, to high-tech thrills of the twenty-first century\, explore the city with its champions. Meet two generations of Wreckers\, American Spirit\, Wild Kat\, and more. This expanded edition includes the beloved novella “Wrecker of Engines” plus new stories and bonus content. \nWelcome to Cobalt City\, where the adventures keep changing but some people are timeless. \nCover art by Janay Nowlin
URL:https://www.defconone.com/event/book-release-wrecker-of-engines-tales-of-cobalt-citys-adventurers-club/
CATEGORIES:Book Release
ATTACH;FMTTYPE=image/jpeg:https://www.defconone.com/wp-content/uploads/2024/02/9781948280402_Wrecker_ebook_cover.jpg
END:VEVENT
BEGIN:VEVENT
DTSTART;VALUE=DATE:20240312
DTEND;VALUE=DATE:20240313
DTSTAMP:20260423T072516
CREATED:20240226T000253Z
LAST-MODIFIED:20240226T000402Z
UID:24384-1710201600-1710287999@www.defconone.com
SUMMARY:Book Release: Warlock Rising
DESCRIPTION:Purchase Here \nThere is madness spreading on the streets of Cobalt City. \nThankfully the city has superheroes to protect it. \nWhen the Goblin Riders cycle gang and their powerful leader\, Oni\, begin to push a dangerous new street drug called Warlock\, it falls to Gato Loco’s protégé\, Caterwaul\, to put a stop to it. Because Warlock isn’t like other drugs. It’s a dangerous hallucinogenic that could lead to permanent madness. And if Caterwaul can’t stop it\, things could get seriously freaky. \nOne man cannot stop an entire gang and their superpowered leader by himself\, not even the scrappy and reckless Caterwaul. Forced by circumstance to enlist a new partner in the fight\, he reaches out to Lionfish\, another thrill-seeking cyclist who is fast enough to keep up with the action. \nBut Lionfish is more than he seems\, and Caterwaul might have just put himself and the city in more danger than he planned on. With a big shipment of Warlock about to hit the city\, does he have what it takes to stop the Goblin Riders\, Oni\, and his one-time ally at the same time? \nWarlock Rising is a stand-alone novella of gritty\, heart-pounding heroics from Cobalt City creator Nathan Crowder that can also be read as a piece of the puzzle in the four-part epic Mad World Cycle.
URL:https://www.defconone.com/event/book-release-warlock-rising/
CATEGORIES:Book Release
ATTACH;FMTTYPE=image/jpeg:https://www.defconone.com/wp-content/uploads/2023/12/Warlock_Rising-cover.jpg
END:VEVENT
BEGIN:VEVENT
DTSTART;VALUE=DATE:20240116
DTEND;VALUE=DATE:20240117
DTSTAMP:20260423T072516
CREATED:20231219T023150Z
LAST-MODIFIED:20231220T022518Z
UID:24300-1705363200-1705449599@www.defconone.com
SUMMARY:Book Release: Girl Vengeance in Pretty Hate Machine and the Downward Spiral
DESCRIPTION:Purchase Here \nVivienne Cain has really fucked up this time\, and the adults in the room aren’t covering for her anymore. \nHer goth punk ass gets kicked out of Supergroup and shipped off to the Midwest (ugh!) to join the Agents of Awesome: a teenage superhero team of burnouts\, weirdos\, and potential villains. \nIn Chicago\, she finds drama\, excitement\, and something she never expected: \nA family. \nOne she has to protect.
URL:https://www.defconone.com/event/book-release-girl-vengeance-in-pretty-hate-machine-and-the-downward-spiral/
CATEGORIES:Book Release
ATTACH;FMTTYPE=image/jpeg:https://www.defconone.com/wp-content/uploads/2023/12/gvevent-scaled.jpg
END:VEVENT
BEGIN:VEVENT
DTSTART;VALUE=DATE:20231212
DTEND;VALUE=DATE:20231213
DTSTAMP:20260423T072516
CREATED:20231108T155809Z
LAST-MODIFIED:20231108T155809Z
UID:24248-1702339200-1702425599@www.defconone.com
SUMMARY:Book Release: Brother’s Keeper
DESCRIPTION:Purchase Here \nGato Loco’s days as a vigilante are over. When a problem needs superheroes to fix it\, he taps his protégé Caterwaul. Along with heroic members of Triple Threat\, they’ll take down a terrifying villain. It’s an epic team-up between young and old heroes to keep Cobalt City safe!
URL:https://www.defconone.com/event/book-release-brothers-keeper/
CATEGORIES:Book Release
ATTACH;FMTTYPE=image/jpeg:https://www.defconone.com/wp-content/uploads/2023/09/Brothers-Keeper-Art-with-Text-Update.jpg
END:VEVENT
BEGIN:VEVENT
DTSTART;TZID=America/Los_Angeles:20231128T180000
DTEND;TZID=America/Los_Angeles:20231128T200000
DTSTAMP:20260423T072516
CREATED:20231025T020111Z
LAST-MODIFIED:20231110T163239Z
UID:24229-1701194400-1701201600@www.defconone.com
SUMMARY:November 2023 Author Reading at Distant Worlds Coffeehouse
DESCRIPTION:What is it about the Northeast corner of the country that attracts monsters\, magic\, and superheroes? Find out from five Northwest authors reading fantastic\, strange\, and even cozy horror fiction set in New England. \n\nAmanda Cherry and Erik Scott de Bie read from “Bad Intentions” as a super-powered love affair gets messy with magic and revenge.\nRosemary Jones presents Arkham Horror’s first Christmas novel “The Bootlegger’s Dance” where time travel goes awry in a town haunted by monsters past and present.\nDawn Vogel reads from “Brother’s Keeper\,” where a team of superheroes stops a threat far bigger than any of them alone.\nJeremy Zimmerman reads from “Kensei 3\,” the continuing adventures of Kensei as she navigates life as a superhero and young adult.\nThe founder of the Cobalt City series\, Nathan Crowder\, will read from a new release.\n\nLearn more about upcoming fiction from local publisher DefCon One and find out how a Seattle author ended up writing for Aconyte Books in Nottingham\, England. \n 
URL:https://www.defconone.com/event/november-2023-author-reading-at-distant-worlds-coffeehouse/
LOCATION:Distant Worlds Coffeehouse\, 6401 Roosevelt Way NE\, Seattle\, WA\, 98115\, United States
CATEGORIES:Author Event,Book Release
ATTACH;FMTTYPE=image/png:https://www.defconone.com/wp-content/uploads/2023/10/CCNov2023Corrected.png
END:VEVENT
BEGIN:VEVENT
DTSTART;VALUE=DATE:20231121
DTEND;VALUE=DATE:20231122
DTSTAMP:20260423T072516
CREATED:20231108T155531Z
LAST-MODIFIED:20231108T155846Z
UID:24246-1700524800-1700611199@www.defconone.com
SUMMARY:Book Release: Bad Intentions (Femmes Fatale 2)
DESCRIPTION:Purchase Here \n“I do love it when you talk like a supervillain.” \nOnce upon a time\, Ruby and Vivienne were rivals and enemies. Now? Theirs is a happiness neither one of them saw coming\, and things between them are almost perfect. \nAlmost. \nThere’s still the matter of The Raven. Ruby intends to make Vivienne’s on-again lover\, off-again nemesis pay for the harm he’s done to both of them. \n“Let him suffer tenfold every injustice he has done to you.” \nToo bad Vivienne insists on leaving him alive. \nBut Ruby has other ways of dealing with the men who have wronged her. \n“You enchanted him\, didn’t you…? Jesus\, Ginger\, what did you do?” \nA web of lies\, a tangle of magic\, and one dark and dirty secret threaten to destroy everything they’ve built together. \n“Darling\, I can’t just let you compromise all my hard work.” \nLove is messy\, especially when all involved have \nBAD INTENTIONS
URL:https://www.defconone.com/event/book-release-bad-intentions-femmes-fatale-2/
CATEGORIES:Book Release
ATTACH;FMTTYPE=image/jpeg:https://www.defconone.com/wp-content/uploads/2023/09/BadIntentions-FemmeFatales2-smaller.jpg
END:VEVENT
BEGIN:VEVENT
DTSTART;TZID=America/Los_Angeles:20181021T140000
DTEND;TZID=America/Los_Angeles:20181021T160000
DTSTAMP:20260423T072516
CREATED:20180913T200617Z
LAST-MODIFIED:20180914T010129Z
UID:1483-1540130400-1540137600@www.defconone.com
SUMMARY:Cobalt City Book Launch & Reading
DESCRIPTION:We will join Nathan Crowder to help celebrate the release of his new Cobalt City novel\, RESISTANCE. Nathan Crowder will read along with guest authors Jeremy Zimmerman\, Erik Scott de Bie\, and Rosemary Jones. Superhero fiction takes on tyranny with heart and humor\, paired with the stellar tap list at Naked City. \nWe will be on hand to sell copies of books from the authors.
URL:https://www.defconone.com/event/cobalt-city-book-launch-reading/
LOCATION:Naked City Brewery & Taphouse\, 8564 Greenwood Ave N\, Seattle\, WA\, 98103\, United States
CATEGORIES:Author Event,Book Release
ATTACH;FMTTYPE=image/jpeg:https://www.defconone.com/wp-content/uploads/2018/09/Cobalt-City-Resistance.jpg
ORGANIZER;CN="Nathan Crowder":MAILTO:bebopdiablo@gmail.com
END:VEVENT
BEGIN:VEVENT
DTSTART;VALUE=DATE:20181016
DTEND;VALUE=DATE:20181017
DTSTAMP:20260423T072516
CREATED:20180716T190557Z
LAST-MODIFIED:20180716T190954Z
UID:1295-1539648000-1539734399@www.defconone.com
SUMMARY:Book Release! Battling in All Her Finery: Historical Accounts of Otherworldly Women Leaders
DESCRIPTION:Coming October 16\, 2018\, Battling in All Her Finery: Historical Accounts of Otherworldly Women Leaders! \n“I am a woman between worlds. Civilian and military. Seamstress and soldier. The Grande Armée I serve stands between tradition and merit. France itself between republic and monarchy. I stand between comfort and a wall of iron. Between progress and the world of dragons. Between grief and freedom.”\n–Blake Jessop\, “Cuirassiere” \nNo one understands leadership like those who have led. Mad Scientist Journal has brought together twenty-one tales of otherworldly women leaders. Some are born to power\, while others find the spark of power within themselves. Their leadership crosses the boundaries between the military and political world\, while also making stops in music\, the boardroom\, and civil movements. \nIncluded in this collection are stories from Elisa A. Bonnin\, L. Chan\, Nathan Crowder\, Lin Darrow\, A. J. Fitzwater\, G. Scott Huggins\, Patrick Hurley\, Blake Jessop\, Alisha A. Knaff\, Aimee Kuzenski\, Christine Lucas\, Matt Moran\, Mathew Murakami\, Jennifer R. Povey\, Jennifer Lee Rossman\, Frances Sharp\, D. A. Xiaolin Spires\, Leora Spitzer\, Priya Sridhar\, Tais Teng\, and Shirley Vogel. Includes art by Rhaega Ailani\, Errow Collins\, A. Jones\, Leigh Legler\, Justine McGreevy\, and Ariel Alian Wilson.
URL:https://www.defconone.com/event/battling-in-all-her-finery-historical-accounts-of-otherworldly-women-leaders/
CATEGORIES:Book Release
ATTACH;FMTTYPE=image/png:https://www.defconone.com/wp-content/uploads/2018/03/Battling-in-All-Her-Finery.png
END:VEVENT
END:VCALENDAR