BEGIN:VCALENDAR
VERSION:2.0
PRODID:-//DEFCON ONE PUBLISHING - ECPv6.15.20//NONSGML v1.0//EN
CALSCALE:GREGORIAN
METHOD:PUBLISH
X-ORIGINAL-URL:https://www.defconone.com
X-WR-CALDESC:Events for DEFCON ONE PUBLISHING
REFRESH-INTERVAL;VALUE=DURATION:PT1H
X-Robots-Tag:noindex
X-PUBLISHED-TTL:PT1H
BEGIN:VTIMEZONE
TZID:America/Los_Angeles
BEGIN:DAYLIGHT
TZOFFSETFROM:-0800
TZOFFSETTO:-0700
TZNAME:PDT
DTSTART:20160313T100000
END:DAYLIGHT
BEGIN:STANDARD
TZOFFSETFROM:-0700
TZOFFSETTO:-0800
TZNAME:PST
DTSTART:20161106T090000
END:STANDARD
BEGIN:DAYLIGHT
TZOFFSETFROM:-0800
TZOFFSETTO:-0700
TZNAME:PDT
DTSTART:20170312T100000
END:DAYLIGHT
BEGIN:STANDARD
TZOFFSETFROM:-0700
TZOFFSETTO:-0800
TZNAME:PST
DTSTART:20171105T090000
END:STANDARD
BEGIN:DAYLIGHT
TZOFFSETFROM:-0800
TZOFFSETTO:-0700
TZNAME:PDT
DTSTART:20180311T100000
END:DAYLIGHT
BEGIN:STANDARD
TZOFFSETFROM:-0700
TZOFFSETTO:-0800
TZNAME:PST
DTSTART:20181104T090000
END:STANDARD
BEGIN:DAYLIGHT
TZOFFSETFROM:-0800
TZOFFSETTO:-0700
TZNAME:PDT
DTSTART:20190310T100000
END:DAYLIGHT
BEGIN:STANDARD
TZOFFSETFROM:-0700
TZOFFSETTO:-0800
TZNAME:PST
DTSTART:20191103T090000
END:STANDARD
BEGIN:DAYLIGHT
TZOFFSETFROM:-0800
TZOFFSETTO:-0700
TZNAME:PDT
DTSTART:20200308T100000
END:DAYLIGHT
BEGIN:STANDARD
TZOFFSETFROM:-0700
TZOFFSETTO:-0800
TZNAME:PST
DTSTART:20201101T090000
END:STANDARD
BEGIN:DAYLIGHT
TZOFFSETFROM:-0800
TZOFFSETTO:-0700
TZNAME:PDT
DTSTART:20210314T100000
END:DAYLIGHT
BEGIN:STANDARD
TZOFFSETFROM:-0700
TZOFFSETTO:-0800
TZNAME:PST
DTSTART:20211107T090000
END:STANDARD
BEGIN:DAYLIGHT
TZOFFSETFROM:-0800
TZOFFSETTO:-0700
TZNAME:PDT
DTSTART:20220313T100000
END:DAYLIGHT
BEGIN:STANDARD
TZOFFSETFROM:-0700
TZOFFSETTO:-0800
TZNAME:PST
DTSTART:20221106T090000
END:STANDARD
BEGIN:DAYLIGHT
TZOFFSETFROM:-0800
TZOFFSETTO:-0700
TZNAME:PDT
DTSTART:20230312T100000
END:DAYLIGHT
BEGIN:STANDARD
TZOFFSETFROM:-0700
TZOFFSETTO:-0800
TZNAME:PST
DTSTART:20231105T090000
END:STANDARD
BEGIN:DAYLIGHT
TZOFFSETFROM:-0800
TZOFFSETTO:-0700
TZNAME:PDT
DTSTART:20240310T100000
END:DAYLIGHT
BEGIN:STANDARD
TZOFFSETFROM:-0700
TZOFFSETTO:-0800
TZNAME:PST
DTSTART:20241103T090000
END:STANDARD
END:VTIMEZONE
BEGIN:VTIMEZONE
TZID:America/North_Dakota/Center
BEGIN:DAYLIGHT
TZOFFSETFROM:-0600
TZOFFSETTO:-0500
TZNAME:CDT
DTSTART:20180311T080000
END:DAYLIGHT
BEGIN:STANDARD
TZOFFSETFROM:-0500
TZOFFSETTO:-0600
TZNAME:CST
DTSTART:20181104T070000
END:STANDARD
BEGIN:DAYLIGHT
TZOFFSETFROM:-0600
TZOFFSETTO:-0500
TZNAME:CDT
DTSTART:20190310T080000
END:DAYLIGHT
BEGIN:STANDARD
TZOFFSETFROM:-0500
TZOFFSETTO:-0600
TZNAME:CST
DTSTART:20191103T070000
END:STANDARD
BEGIN:DAYLIGHT
TZOFFSETFROM:-0600
TZOFFSETTO:-0500
TZNAME:CDT
DTSTART:20200308T080000
END:DAYLIGHT
BEGIN:STANDARD
TZOFFSETFROM:-0500
TZOFFSETTO:-0600
TZNAME:CST
DTSTART:20201101T070000
END:STANDARD
END:VTIMEZONE
BEGIN:VEVENT
DTSTART;TZID=America/Los_Angeles:20231128T180000
DTEND;TZID=America/Los_Angeles:20231128T200000
DTSTAMP:20260423T072516
CREATED:20231025T020111Z
LAST-MODIFIED:20231110T163239Z
UID:24229-1701194400-1701201600@www.defconone.com
SUMMARY:November 2023 Author Reading at Distant Worlds Coffeehouse
DESCRIPTION:What is it about the Northeast corner of the country that attracts monsters\, magic\, and superheroes? Find out from five Northwest authors reading fantastic\, strange\, and even cozy horror fiction set in New England. \n\nAmanda Cherry and Erik Scott de Bie read from “Bad Intentions” as a super-powered love affair gets messy with magic and revenge.\nRosemary Jones presents Arkham Horror’s first Christmas novel “The Bootlegger’s Dance” where time travel goes awry in a town haunted by monsters past and present.\nDawn Vogel reads from “Brother’s Keeper\,” where a team of superheroes stops a threat far bigger than any of them alone.\nJeremy Zimmerman reads from “Kensei 3\,” the continuing adventures of Kensei as she navigates life as a superhero and young adult.\nThe founder of the Cobalt City series\, Nathan Crowder\, will read from a new release.\n\nLearn more about upcoming fiction from local publisher DefCon One and find out how a Seattle author ended up writing for Aconyte Books in Nottingham\, England. \n 
URL:https://www.defconone.com/event/november-2023-author-reading-at-distant-worlds-coffeehouse/
LOCATION:Distant Worlds Coffeehouse\, 6401 Roosevelt Way NE\, Seattle\, WA\, 98115\, United States
CATEGORIES:Author Event,Book Release
ATTACH;FMTTYPE=image/png:https://www.defconone.com/wp-content/uploads/2023/10/CCNov2023Corrected.png
END:VEVENT
BEGIN:VEVENT
DTSTART;TZID=America/Los_Angeles:20221118T170000
DTEND;TZID=America/Los_Angeles:20221118T190000
DTSTAMP:20260423T072516
CREATED:20220921T222639Z
LAST-MODIFIED:20220921T222639Z
UID:23857-1668790800-1668798000@www.defconone.com
SUMMARY:Femmes Fatale at Main Street Books
DESCRIPTION:Visit Main Street Books in Monroe\, Washington\, on Friday\, November 18th\, at 5 p.m. to hear Erik Scott de Bie and Amanda Cherry read from their new release\, Femmes Fatale!
URL:https://www.defconone.com/event/femmes-fatale-at-main-street-books/
LOCATION:Main Street Books\, 110 E Main St #100\, Monroe\, WA\, 98272\, United States
CATEGORIES:Author Event
END:VEVENT
BEGIN:VEVENT
DTSTART;TZID=America/North_Dakota/Center:20190330T150000
DTEND;TZID=America/North_Dakota/Center:20190330T170000
DTSTAMP:20260423T072516
CREATED:20190208T042753Z
LAST-MODIFIED:20190208T051324Z
UID:1822-1553958000-1553965200@www.defconone.com
SUMMARY:Novels of Fantastic History: The Sequel
DESCRIPTION:Dawn Vogel will join three other authors of historical novels talk about their books in a live discussion.
URL:https://www.defconone.com/event/novels-of-fantastic-history-the-sequel/
LOCATION:Facebook
CATEGORIES:Author Event
ATTACH;FMTTYPE=image/jpeg:https://www.defconone.com/wp-content/uploads/2019/02/novels-of-fantastic-history.jpg
END:VEVENT
BEGIN:VEVENT
DTSTART;TZID=America/Los_Angeles:20181021T140000
DTEND;TZID=America/Los_Angeles:20181021T160000
DTSTAMP:20260423T072516
CREATED:20180913T200617Z
LAST-MODIFIED:20180914T010129Z
UID:1483-1540130400-1540137600@www.defconone.com
SUMMARY:Cobalt City Book Launch & Reading
DESCRIPTION:We will join Nathan Crowder to help celebrate the release of his new Cobalt City novel\, RESISTANCE. Nathan Crowder will read along with guest authors Jeremy Zimmerman\, Erik Scott de Bie\, and Rosemary Jones. Superhero fiction takes on tyranny with heart and humor\, paired with the stellar tap list at Naked City. \nWe will be on hand to sell copies of books from the authors.
URL:https://www.defconone.com/event/cobalt-city-book-launch-reading/
LOCATION:Naked City Brewery & Taphouse\, 8564 Greenwood Ave N\, Seattle\, WA\, 98103\, United States
CATEGORIES:Author Event,Book Release
ATTACH;FMTTYPE=image/jpeg:https://www.defconone.com/wp-content/uploads/2018/09/Cobalt-City-Resistance.jpg
ORGANIZER;CN="Nathan Crowder":MAILTO:bebopdiablo@gmail.com
END:VEVENT
BEGIN:VEVENT
DTSTART;VALUE=DATE:20181006
DTEND;VALUE=DATE:20181007
DTSTAMP:20260423T072516
CREATED:20180714T160627Z
LAST-MODIFIED:20180714T160627Z
UID:1265-1538784000-1538870399@www.defconone.com
SUMMARY:Puyallup Festival of Books 2018
DESCRIPTION:We will be joining other local authors in Puyallup for the 5th annual celebration of local authors.
URL:https://www.defconone.com/event/puyallup-festival-of-books-2018/
LOCATION:Puyallup Public Library\, 324 South Meridian\, Puyallup\, WA\, 98371\, United States
CATEGORIES:Author Event
ATTACH;FMTTYPE=image/png:https://www.defconone.com/wp-content/uploads/2018/07/puyallup-festival-of-books.png
ORGANIZER;CN="Puyallup Public Library":MAILTO:puylib@ci.puyallup.wa.us
END:VEVENT
BEGIN:VEVENT
DTSTART;TZID=America/Los_Angeles:20180322T180000
DTEND;TZID=America/Los_Angeles:20180322T200000
DTSTAMP:20260423T072516
CREATED:20180226T204956Z
LAST-MODIFIED:20180226T204956Z
UID:996-1521741600-1521748800@www.defconone.com
SUMMARY:Cobalt City Reading
DESCRIPTION:Five Seattle authors reading selections from their superhero stories in a shared universe!
URL:https://www.defconone.com/event/cobalt-city-reading/
LOCATION:Friday Afternoon Tea\, 4228 Stone Way N\, Seattle\, WA\, 98103\, United States
CATEGORIES:Author Event
ATTACH;FMTTYPE=image/jpeg:https://www.defconone.com/wp-content/uploads/2018/02/ScreenShotCCR.jpg
END:VEVENT
BEGIN:VEVENT
DTSTART;TZID=America/Los_Angeles:20180320T190000
DTEND;TZID=America/Los_Angeles:20180320T200000
DTSTAMP:20260423T072516
CREATED:20180226T203807Z
LAST-MODIFIED:20180226T203825Z
UID:991-1521572400-1521576000@www.defconone.com
SUMMARY:Rites & Desires Book Launch and Reading
DESCRIPTION:Writer and actor Amanda Cherry brings her debut book\, Rites & Desires. Ruby Killingsworth relies on magic to keep her entertainment empire on top. When a ritual gone wrong robs her of this magic\, she isn’t about to take it lying down. Enlisting Loki’s aid and commanding the band of supernatural henchmen he’s proffered\, Ruby embarks to capture the magic of an ancient African gem. But magic comes with a price and Loki is never on anyone’s side but his own.
URL:https://www.defconone.com/event/rites-desires-book-launch-and-reading/
LOCATION:University Book Store – U. District\, 4326 University Way NE\, Seattle\, WA\, 98105\, United States
CATEGORIES:Author Event
ATTACH;FMTTYPE=image/jpeg:https://www.defconone.com/wp-content/uploads/2018/01/RitesFlat_preview.jpeg1_.jpg
ORGANIZER;CN="University Book Store":MAILTO:bookstore@ubookstore.com
END:VEVENT
BEGIN:VEVENT
DTSTART;VALUE=DATE:20170113
DTEND;VALUE=DATE:20170116
DTSTAMP:20260423T072516
CREATED:20161021T022039Z
LAST-MODIFIED:20170102T203438Z
UID:320-1484265600-1484524799@www.defconone.com
SUMMARY:RustyCon 34
DESCRIPTION:Jeremy Zimmerman will be an attending panelist at this local fan convention.  \nFri Jan 13 2:00 pm – Crowdfunding Ups and Downs – With A. Maire Dinsmore\, John Lovett\, Manny Frishberg\nFri Jan 13 3:00 pm – Magic or Religion? (A writing panel on differences in magic styles.) – With Bruce Taylor\, Elizabeth Guizzetti\, G.R. Theron\nFri Jan 13 5:00 pm – The Role of the Game Master – With Ari Goldstein\, Benjamin Dilley\, Michael Miller\nFri Jan 13 8:00 pm – Reading\nSat Jan 14 4:00 pm – Creating Your Role-Playing Game – With Dameon Willich\, Dustin Gross\nSat Jan 14 5:00 pm – Game Design: World Design – With Benjamin Dilley\, Dustin Gross\, Shannon Dilley\nSat Jan 14 7:00 pm – Questions you always wanted to ask: Writer – With David Boop\, Jeremy Zimmerman\, Michael Ehart\, William (Morrigan) Lehman\nSun Jan 15 2:00 pm – LGTB Fiction: Writing Alt Gender and Lifestyle Characters – With Gene Armstrong\, Kate Ristau\, Mir Plemmons
URL:https://www.defconone.com/event/rustycon-34/
LOCATION:Seattle Airport Marriott\, 3201 South 176th Street\, Seattle\, WA\, 98188\, United States
CATEGORIES:Author Event,Convention
ATTACH;FMTTYPE=image/png:https://www.defconone.com/wp-content/uploads/2016/10/AnnouncmentSlide21.png
END:VEVENT
END:VCALENDAR